BEGIN:VCALENDAR
VERSION:2.0
CALSCALE:GREGORIAN
PRODID:-//MyApp//Calendar 1.0//EN
BEGIN:VEVENT
METHOD:PUBLISH
UID:65533@regionalniportaly.cz
DTSTAMP:20260422T005810Z
DTSTART;VALUE=DATE:20260525
DTEND;VALUE=DATE:20260526
SUMMARY:Souboj Titánů
DESCRIPTION:
LOCATION:Mělník
END:VEVENT
END:VCALENDAR