BEGIN:VCALENDAR
VERSION:2.0
CALSCALE:GREGORIAN
PRODID:-//MyApp//Calendar 1.0//EN
BEGIN:VEVENT
METHOD:PUBLISH
UID:65527@regionalniportaly.cz
DTSTAMP:20260421T140706Z
DTSTART;VALUE=DATE:20260511
DTEND;VALUE=DATE:20260512
SUMMARY:Albánie – cestou necestou
DESCRIPTION:
LOCATION:Mělník
END:VEVENT
END:VCALENDAR