BEGIN:VCALENDAR
VERSION:2.0
CALSCALE:GREGORIAN
PRODID:-//MyApp//Calendar 1.0//EN
BEGIN:VEVENT
METHOD:PUBLISH
UID:65525@regionalniportaly.cz
DTSTAMP:20260421T140645Z
DTSTART;VALUE=DATE:20260506
DTEND;VALUE=DATE:20260507
SUMMARY:J. F. L. Band a hosté
DESCRIPTION:
LOCATION:Mělník
END:VEVENT
END:VCALENDAR