BEGIN:VCALENDAR
VERSION:2.0
CALSCALE:GREGORIAN
PRODID:-//MyApp//Calendar 1.0//EN
BEGIN:VEVENT
METHOD:PUBLISH
UID:65523@regionalniportaly.cz
DTSTAMP:20260421T140655Z
DTSTART;VALUE=DATE:20260501
DTEND;VALUE=DATE:20260502
SUMMARY:Májový koncert nad soutokem
DESCRIPTION:
LOCATION:Mělník
END:VEVENT
END:VCALENDAR