BEGIN:VCALENDAR
VERSION:2.0
CALSCALE:GREGORIAN
PRODID:-//MyApp//Calendar 1.0//EN
BEGIN:VEVENT
METHOD:PUBLISH
UID:65258@regionalniportaly.cz
DTSTAMP:20260421T135557Z
DTSTART;VALUE=DATE:20260524
DTEND;VALUE=DATE:20260525
SUMMARY:Dětský den na Vrchbělé
DESCRIPTION:Dětský den na VrchběléNeděle 24. srpna 2026&nbsp\;od 10:00Areál VrchběláPřijďte si s námi užít den plný radosti\, smíchu\, hudby a zábavy pro celou rodinu!Čekají vás atrakce\, show programy\, tvořivé dílničky\, sportovní aktivity i oblíbený fotokoutek – to všechno a ještě mnohem víc na jedinečném Dětském dni na Vrchbělé.Podrobný program a atrakce pro vás přípravujeme&nbsp\;Můžete se\, ale těšit na\, tvořivé dílničky\, sportovní aktivity to všechno a ještě mnohem víc na jedinečném Dětském dni na Vrchbělé.VstupenkyDěti do 2 let mají vstup zdarma. Dospělý doprovod má vstup zdarma.Přijďte si užít skvělý den plný radosti!Těšíme se na vás!
LOCATION:Bělá pod Bezdězem
END:VEVENT
END:VCALENDAR