BEGIN:VCALENDAR
VERSION:2.0
CALSCALE:GREGORIAN
PRODID:-//MyApp//Calendar 1.0//EN
BEGIN:VEVENT
METHOD:PUBLISH
UID:63733@regionalniportaly.cz
DTSTAMP:20260421T221559Z
DTSTART;VALUE=DATE:20260312
DTEND;VALUE=DATE:20260313
SUMMARY:Mário Bihári a Adam Pospíšil Duo
DESCRIPTION:Fenomenální akordeonista\, skladatel a zpěvák Mário Bihári a všestranný houslista Adam Pospíšil\, zvou diváky do světa originální hudební fantazie. \nJejí základ tvoří romská hudba\, jazz i klasika\, ale každé vystoupení je jiné a může se stát cokoliv. Momentální hudební představy se taví do konkrétních nápadů\, které se vzájemné provokují k dalším výzvám. Někdy se hudba rozvine na základě notoricky známého šlágru\, jindy postupně vzniká z momentální inspirace. Oba muzikanti ve výjimečné souhře zúročují mnoho let hudební spolupráce a přátelství.\nMário Bihári – akordeon\, zpěv        Adam Pospíšil – housle\, zpěv\nVSTUPNÉ - smsticket portál
LOCATION:Veltrusy
END:VEVENT
END:VCALENDAR