BEGIN:VCALENDAR
VERSION:2.0
CALSCALE:GREGORIAN
PRODID:-//MyApp//Calendar 1.0//EN
BEGIN:VEVENT
METHOD:PUBLISH
UID:63658@regionalniportaly.cz
DTSTAMP:20260421T191130Z
DTSTART;VALUE=DATE:20260312
DTEND;VALUE=DATE:20260313
SUMMARY:Duo Mário Bihári a Adam Pospíšil
DESCRIPTION:Fenomenální akordeonista a zpěvák Mário Bihári společně s virtuózním houslistou Adamem Pospíšilem přinášejí jedinečný hudební zážitek plný improvizace a emocí. Jejich tvorba propojuje romskou hudbu\, jazz i klasiku a každé vystoupení je neopakovatelnou hudební cestou\, kde může vzniknout doslova cokoli. Výjimečná souhra dvou výrazných osobností slibuje koncert plný energie\, překvapení i silných momentů.
LOCATION:Veltrusy
END:VEVENT
END:VCALENDAR