BEGIN:VCALENDAR
VERSION:2.0
CALSCALE:GREGORIAN
PRODID:-//MyApp//Calendar 1.0//EN
BEGIN:VEVENT
METHOD:PUBLISH
UID:63574@regionalniportaly.cz
DTSTAMP:20260421T204735Z
DTSTART;VALUE=DATE:20260305
DTEND;VALUE=DATE:20260306
SUMMARY:Má to cenu!?
DESCRIPTION:Má to cenu!?ČR / 2025&nbsp\;/ 92 min.Režie: Jan StrejcovskýCo určuje hodnotu uměleckého díla? Jedna z nejvíc diskutovaných a zároveň nejhůř uchopitelných otázek současného trhu s uměním stojí v centru situační satiry Jana Strejcovského. Ze své pozice se nad tím zamýšlejí kontroverzní sběratel umění Robert Runták\, galeristka Olga Trčková nebo intermediální umělec Jiří David. Z mozaiky sebevědomých výroků a nepravděpodobných setkání různých světů a názorů vyplývá\, že roli hraje příběh\, pověst\, čas\, vkus\, emoce\, trendy i kontakty. Nakonec jde ale hlavně o dohodu. Mezi tím\, kdo umění vytváří\, a tím\, kdo za něj platí. S vírou a očekáváním publika si pohrává také film od Strejcovského. Možná sledujeme skutečnost\, možná mystifikační provokaci.Kapacita sálu je omezená\, doporučujeme zakoupit si vstupenku v předprodeji.&nbsp\;
LOCATION:Litoměřice
END:VEVENT
END:VCALENDAR