BEGIN:VCALENDAR
VERSION:2.0
CALSCALE:GREGORIAN
PRODID:-//MyApp//Calendar 1.0//EN
BEGIN:VEVENT
METHOD:PUBLISH
UID:63557@regionalniportaly.cz
DTSTAMP:20260421T140812Z
DTSTART;VALUE=DATE:20261208
DTEND;VALUE=DATE:20261209
SUMMARY:Václav Noid Bárta - Vánoční koncert
DESCRIPTION:Do Litoměřic&nbsp\;míří aktuální držitel&nbsp\;&nbsp\;Zlatého&nbsp\;slavíka – Václav Noid Bárta. Jeho výrazný hlas\, přirozená energie a silné charisma budou hlavními prvky večera\, který nabídne vánoční atmosféru v podání jednoho z nejvýraznějších interpretů současné české hudební scény.Na poli populární a rockové hudby v průběhu let spolupracoval jako skladatel\, aranžér a zpěvák například s Lucií Bílou\, Bárou Basikovou\, Helenou Vondráčkovou\, Kamilem Střihavkou\, Lucií Vondráčkovou a dalšími.Je předním sólistou Hudebního divadla Karlín\, kde exceloval v muzikálech Carmen\, Aida\, Lucie\, The Addams Family\, Bonnie and Clyde\, Jesus Christ Superstar a Sestra v akci.Vstupenky jsou právě v prodeji\, ale neváhejte dlouho – rychle mizí a brzy nebudou k dispozici.&nbsp\;
LOCATION:Litoměřice
END:VEVENT
END:VCALENDAR