BEGIN:VCALENDAR
VERSION:2.0
CALSCALE:GREGORIAN
PRODID:-//MyApp//Calendar 1.0//EN
BEGIN:VEVENT
METHOD:PUBLISH
UID:63549@regionalniportaly.cz
DTSTAMP:20260421T204724Z
DTSTART;VALUE=DATE:20260318
DTEND;VALUE=DATE:20260319
SUMMARY:Doktor na tripu - projekce s hosty
DESCRIPTION:Doktor na tripu - projekce s hostyČesko\, 2025\, 84 minRežie: David Čálek&nbsp\;Ve světě\, kde duševními onemocněními trpí miliony lidí\, hledá mezinárodní tým vědců nové cesty k uzdravení. Každý čtvrtý člověk si během života projde nějakou formou duševního onemocnění. Deprese\, úzkosti a další psychické potíže nejsou pouze individuálními problémy – jsou odrazem stresujícího a rychle se měnícího tempa moderní společnosti. Tibor\, Richard a Lucie se dlouhé roky potýkají s depresí. Jejich cesta byla plná frustrace a beznaděje. Podobně jako tisícům dalších pacientů jim tradiční antidepresiva nepřinesla žádnou úlevu. Když už se zdálo\, že možnost změny není\, objevila se nová naděje: přelomový výzkum pod vedením MUDr. Tomáše Páleníčka a mezinárodního vědeckého týmu. Jejich cíl je ambiciózní: zjistit\, zda psychedelické látky mohou přinést skutečnou změnu v životech lidí s depresí a otevřít dveře novým alternativním metodám léčby. Výsledky z laboratoří se vydávají ověřit do srdce amazonského pralesa. Zkušenosti tamějších původních obyvatel mohou v jejich bádání představovat zásadní průlom.&nbsp\;Po projekci následuje beseda s hosty – režisérem Davidem Čálkem a Danielou Kloubkovou z&nbsp\;Kliniky Psyon.&nbsp\;Kapacita sálu je omezená\, doporučujeme zakoupit si vstupenku v předprodeji.&nbsp\;
LOCATION:Litoměřice
END:VEVENT
END:VCALENDAR