BEGIN:VCALENDAR
VERSION:2.0
CALSCALE:GREGORIAN
PRODID:-//MyApp//Calendar 1.0//EN
BEGIN:VEVENT
METHOD:PUBLISH
UID:63449@regionalniportaly.cz
DTSTAMP:20260421T221608Z
DTSTART;VALUE=DATE:20260223
DTEND;VALUE=DATE:20260224
SUMMARY:Králové rapu
DESCRIPTION:&nbsp\;Ukrajina\, 2021\, 100 minRežie: Myroslav Latyk&nbsp\;Sedmnáctiletý mladík přezdívaný Kazan má velký sen o tom\, že se stane slavným rapperem a získá srdce dívky\, kterou miluje. Kvůli svým snům je Kazan odhodlaný riskovat a na cestě ho čeká boj o úspěch\, lásku\, a dokonce i o přežití.Film Králové rapu propojuje kriminální napětí\, příběh o dospívání a energii rapu do vizuálně strhující podívané. Režisér s citem mísí drsnost ulice s romantikou a rytmem. Výrazné herecké výkony\, silné emoce a hudba – to vše dělá z „Králů rapu“ jeden z nejvýraznějších ukrajinských filmů posledních let. V hlavních rolích se objevují Mychajlo Dziuba jako Kazan\, populární zpěvák Anton Velboj (Wellboy) a hvězda ukrajinského divadla a filmu Irma Vitovska. Snímek\, který měl premiéru na Mezinárodním filmovém festivalu v Oděse (2021)\, si získal uznání kritiků i diváků – jako „nový kultovní ukrajinský blockbuster“.&nbsp\;Vstupné: 100 KčUvedením filmu vyjadřujeme podporu Ukrajině\, která čelí vojenské agresi\, projekcí&nbsp\;připomínáme\, že právo na kulturu a důstojný život není samozřejmostí.Projekce se koná v Kulturním a kreativním centru Litoměřice\, 5. května 76/11\, 412 01 Litoměřice.&nbsp\;2. patro\, HUB – kreativní prostor a sál\, kde připravuje program&nbsp\;Kinoklub Ostrov.&nbsp\;Kapacita sálu&nbsp\;je 40 osob. Doporučujeme si koupit vstupenku v předprodeji.&nbsp\;
LOCATION:Litoměřice
END:VEVENT
END:VCALENDAR