BEGIN:VCALENDAR
VERSION:2.0
CALSCALE:GREGORIAN
PRODID:-//MyApp//Calendar 1.0//EN
BEGIN:VEVENT
METHOD:PUBLISH
UID:63423@regionalniportaly.cz
DTSTAMP:20260422T001809Z
DTSTART;VALUE=DATE:20261001
DTEND;VALUE=DATE:20261002
SUMMARY:Jiří Charvát - Komik\, který neexistuje
DESCRIPTION:Jiří CharvátKomik\, který neexistujeCelovečerní speciál toho nejlepšího z neuronové zahrádky jednoho z nejvýraznějších neexistujících stand-up komiků. Určeno zejména těm\, kdo měli tu smůlu\, že v téhle inkarnaci vyfasovali jako avatara nahatou opici.Už tě unavuje předstírat\, že máš osobnost? Bojíš se\, že se přijde na to\, že nevíš\, co děláš? Jsi neustále se proměňující náladový prázdný zvrhlý proud vědomí\, co zvenku vypadá jako člověk? Nejsi sám. Přijď prožít večer\, který tě trpce rozesměje a hluboce uklidní.
LOCATION:Litoměřice
END:VEVENT
END:VCALENDAR