BEGIN:VCALENDAR
VERSION:2.0
CALSCALE:GREGORIAN
PRODID:-//MyApp//Calendar 1.0//EN
BEGIN:VEVENT
METHOD:PUBLISH
UID:63302@regionalniportaly.cz
DTSTAMP:20260421T221628Z
DTSTART;VALUE=DATE:20260331
DTEND;VALUE=DATE:20260401
SUMMARY:Jiří Kolbaba: Mystické Japonsko
DESCRIPTION:
LOCATION:Mělník
END:VEVENT
END:VCALENDAR