BEGIN:VCALENDAR
VERSION:2.0
CALSCALE:GREGORIAN
PRODID:-//MyApp//Calendar 1.0//EN
BEGIN:VEVENT
METHOD:PUBLISH
UID:63301@regionalniportaly.cz
DTSTAMP:20260421T191215Z
DTSTART;VALUE=DATE:20260330
DTEND;VALUE=DATE:20260331
SUMMARY:Divadelní představení Soused
DESCRIPTION:
LOCATION:Mělník
END:VEVENT
END:VCALENDAR