BEGIN:VCALENDAR
VERSION:2.0
CALSCALE:GREGORIAN
PRODID:-//MyApp//Calendar 1.0//EN
BEGIN:VEVENT
METHOD:PUBLISH
UID:63299@regionalniportaly.cz
DTSTAMP:20260421T173801Z
DTSTART;VALUE=DATE:20260326
DTEND;VALUE=DATE:20260327
SUMMARY:Benefiční Stand-up show
DESCRIPTION:
LOCATION:Mělník
END:VEVENT
END:VCALENDAR