BEGIN:VCALENDAR
VERSION:2.0
CALSCALE:GREGORIAN
PRODID:-//MyApp//Calendar 1.0//EN
BEGIN:VEVENT
METHOD:PUBLISH
UID:63297@regionalniportaly.cz
DTSTAMP:20260422T002833Z
DTSTART;VALUE=DATE:20260323
DTEND;VALUE=DATE:20260324
SUMMARY:Pouť do Santiaga de Compostela
DESCRIPTION:
LOCATION:Mělník
END:VEVENT
END:VCALENDAR