BEGIN:VCALENDAR
VERSION:2.0
CALSCALE:GREGORIAN
PRODID:-//MyApp//Calendar 1.0//EN
BEGIN:VEVENT
METHOD:PUBLISH
UID:63294@regionalniportaly.cz
DTSTAMP:20260421T204801Z
DTSTART;VALUE=DATE:20260311
DTEND;VALUE=DATE:20260312
SUMMARY:Tereza Jakobová
DESCRIPTION:
LOCATION:Mělník
END:VEVENT
END:VCALENDAR