BEGIN:VCALENDAR
VERSION:2.0
CALSCALE:GREGORIAN
PRODID:-//MyApp//Calendar 1.0//EN
BEGIN:VEVENT
METHOD:PUBLISH
UID:63293@regionalniportaly.cz
DTSTAMP:20260421T192401Z
DTSTART;VALUE=DATE:20260309
DTEND;VALUE=DATE:20260310
SUMMARY:Mýtická Karélie\, země tisíců jezer
DESCRIPTION:
LOCATION:Mělník
END:VEVENT
END:VCALENDAR