BEGIN:VCALENDAR
VERSION:2.0
CALSCALE:GREGORIAN
PRODID:-//MyApp//Calendar 1.0//EN
BEGIN:VEVENT
METHOD:PUBLISH
UID:63291@regionalniportaly.cz
DTSTAMP:20260421T204752Z
DTSTART;VALUE=DATE:20260301
DTEND;VALUE=DATE:20260302
SUMMARY:Dětský karneval
DESCRIPTION:
LOCATION:Mělník
END:VEVENT
END:VCALENDAR