BEGIN:VCALENDAR
VERSION:2.0
CALSCALE:GREGORIAN
PRODID:-//MyApp//Calendar 1.0//EN
BEGIN:VEVENT
METHOD:PUBLISH
UID:62643@regionalniportaly.cz
DTSTAMP:20260421T191226Z
DTSTART;VALUE=DATE:20260221
DTEND;VALUE=DATE:20260222
SUMMARY:Choroš vaří + Gott Revival
DESCRIPTION:Pokus o gastronomickou performanci\, při níž skupina Choroš připraví během své hudební produkce menu o třech chodech.K dobrému zažití vystoupí pop-undergroundové těleso Gott revival z Prahy.&nbsp\;ChorošGott Revival
LOCATION:Litoměřice
END:VEVENT
END:VCALENDAR