BEGIN:VCALENDAR
VERSION:2.0
CALSCALE:GREGORIAN
PRODID:-//MyApp//Calendar 1.0//EN
BEGIN:VEVENT
METHOD:PUBLISH
UID:62294@regionalniportaly.cz
DTSTAMP:20260421T160145Z
DTSTART;VALUE=DATE:20260418
DTEND;VALUE=DATE:20260419
SUMMARY:That 80´s Rock Show Aréna
DESCRIPTION:Zažijte&nbsp\;večer\, na který budete dlouho vzpomínat!&nbsp\;V&nbsp\;kulturáku ožijí 80. léta&nbsp\;v plné parádě – neonové sny\, energické refrény a rytmy\, které vás nenechají sedět.&nbsp\;Kapela Aréna&nbsp\;představí svůj jedinečný&nbsp\;pop-rockový výběr největších hitů 80. a 90. let&nbsp\;– od Bon Jovi přes Journey nebo Belindu Carlisle\, až po klasické rockové melodie\, které znáte a milujete.&nbsp\;Kapela Aréna má kořeny už v 80. letech\, kdy vznikla na pražské hudební scéně a postupně si vybudovala jméno mezi fanoušky poctivého pop-rocku. Dnes na tuto historii navazuje v podobě energické rockové show\, která vzdává hold nejslavnějším hitům 80. (a 90.) let – s respektem k originálům a důrazem na živou atmosféru a zábavu.SOUTĚŽE A SLOSOVÁNÍ LÍSTKŮKrátké přestávky vyplníme soutěží o&nbsp\;drobné ceny. Dále také proběhne slosování všech lístků\, kdy si několik šťastlivců odnese ceny hodnotnější. Hlavní cena je voucher na wellness pobyt pro dvě osoby.&nbsp\;To zkrátka chceš :-)&nbsp\;Na místě bude také samoobslužný fotokoutek\, abyste si tenhle super večírek\, mohli stylově zvěčnit.&nbsp\;Přijďte si zazpívat\, zatancovat a vzpomenout si\, jaké to bylo\, když MTV formovala hudební svět.&nbsp\;Tahle&nbsp\;akce&nbsp\;je pro všechny\, kdo milují nostalgii\, dobrou hudbu a pořádnou dávku zábavy.
LOCATION:Čelákovice
END:VEVENT
END:VCALENDAR