BEGIN:VCALENDAR
VERSION:2.0
CALSCALE:GREGORIAN
PRODID:-//MyApp//Calendar 1.0//EN
BEGIN:VEVENT
METHOD:PUBLISH
UID:62191@regionalniportaly.cz
DTSTAMP:20260421T222900Z
DTSTART;VALUE=DATE:20260314
DTEND;VALUE=DATE:20260315
SUMMARY:Námořnický KARNEVAL
DESCRIPTION:
LOCATION:Čelákovice
END:VEVENT
END:VCALENDAR