BEGIN:VCALENDAR
VERSION:2.0
CALSCALE:GREGORIAN
PRODID:-//MyApp//Calendar 1.0//EN
BEGIN:VEVENT
METHOD:PUBLISH
UID:62134@regionalniportaly.cz
DTSTAMP:20260422T020234Z
DTSTART;VALUE=DATE:20260121
DTEND;VALUE=DATE:20260122
SUMMARY:Riefenstahl
DESCRIPTION:Riefenstahl\,&nbsp\;Německo\, 2024\, 120 minRežie: Andres VeielUhrančivý vhled do osobního odkazu Leni Riefenstahlové\, která se proslavila filmem Triumf vůle\, vrcholem nacistické filmové propagandy\, přičemž zatvrzele popírala jakékoli blízké vazby na režim.Leni Riefenstahlová je považována za jednu z nejkontroverznějších osobností dvacátého století. Její filmy Triumf vůle a Olympia dokonale ztělesňují stylizované uctívání kultu těla a oslavu nadřazenosti a vítězství. Zároveň tyto obrazy vyjadřují pohrdání nedokonalými a slabými. Estetické vnímání\, které Riefenstahlová kodifikovala\, je dnes rozšířenější než kdy jindy – ale platí to i pro základní poselství jejích snímků? Film zkoumá tuto otázku pomocí dokumentů z pozůstalosti Riefenstahlové\, včetně soukromých filmů\, fotografií\, dopisů a nahrávek. Odhaluje fragmenty jejího života a zasazuje je do širšího historického kontextu. Jak se mohla Riefenstahlová vypracovat na pozici přední filmařky Říše\, zatímco vytrvale popírala jakékoli úzké vazby na Hitlera a Goebbelse? V osobních dokumentech lamentuje nad jejími „zavražděnými ideály“. Snímek odráží naladění mnohých poválečných Němců\, kteří – na základě dopisů a nahraných telefonních hovorů z režisérčiny pozůstalosti – touží po autoritativní osobnosti\, která by obnovila pořádek v tomhle „podělaném státě“. Věří\, že tato obroda by mohla přinést také renesanci díla Leni Riefenstahlové – domněnka\, která by se mohla stát skutečností během jedné nebo dvou generací. Co když mají pravdu?Vstupné: 120 KčKapacita sálu&nbsp\;je 40 osob. Doporučujeme si koupit vstupenku v předprodeji.&nbsp\;
LOCATION:Litoměřice
END:VEVENT
END:VCALENDAR