BEGIN:VCALENDAR
VERSION:2.0
CALSCALE:GREGORIAN
PRODID:-//MyApp//Calendar 1.0//EN
BEGIN:VEVENT
METHOD:PUBLISH
UID:62094@regionalniportaly.cz
DTSTAMP:20260421T160130Z
DTSTART;VALUE=DATE:20260418
DTEND;VALUE=DATE:20260419
SUMMARY:Hawajská noc v Charvátově statku
DESCRIPTION:HAWAJSKÁ NOC V CHARVÁTOVĚ STATKUTropická párty\, která vás přenese na pláž.Přijďte si užít večer plný barev\, hudby a letní pohody. V sobotu 18. dubna 2026 od 20:00 se Charvátův statek promění v exotický hawajský ráj.Čeká vás atmosféra ostrovů\, skvělá hudba\, tanec a zábava\, na kterou budete ještě dlouho vzpomínat.O hudební doprovod se postará DJ Petr\, který vás provede celým večerem a zahraje tropické rytmy\, letní hity i oblíbené taneční skladby pro všechny generace. Během večera budete mít možnost objednat si písničky na přání\, takže hudba bude opravdu podle vašeho gusta.Profesionální ozvučení\, světla a energická atmosféra zajistí\, že se na parketu rozhodně nebudete nudit.Na památku z večera nebude chybět stylový hawajský fotokoutek\, kde si pořídíte originální momentky s tematickými doplňky a rekvizitami. Každý návštěvník navíc dostane u vstupu havajský věnec zdarma!O vaše občerstvení se postará CATERING HOME s nabídkou tropických drinků a lehkého občerstvení v havajském stylu. Vychlazené nápoje a chuťovky skvěle doplní atmosféru celého večera.Doporučujeme přijít v hawajském stylu – květinové věnce\, barevné košile\, sukně\, šortky\, nebo jiné plážové doplňky. Čím barevněji se obléknete\, tím silnější tropickou energii společně vytvoříme.Navíc vyhlásíme soutěž o nejlepší hawajský outfit večera!
LOCATION:Zápy
END:VEVENT
END:VCALENDAR