BEGIN:VCALENDAR
VERSION:2.0
CALSCALE:GREGORIAN
PRODID:-//MyApp//Calendar 1.0//EN
BEGIN:VEVENT
METHOD:PUBLISH
UID:61895@regionalniportaly.cz
DTSTAMP:20260422T003729Z
DTSTART;VALUE=DATE:20260122
DTEND;VALUE=DATE:20260123
SUMMARY:Setkání s letošními účastníky rallye Dakar 2026
DESCRIPTION:
LOCATION:Velvary
END:VEVENT
END:VCALENDAR