BEGIN:VCALENDAR
VERSION:2.0
CALSCALE:GREGORIAN
PRODID:-//MyApp//Calendar 1.0//EN
BEGIN:VEVENT
METHOD:PUBLISH
UID:61891@regionalniportaly.cz
DTSTAMP:20260421T173547Z
DTSTART;VALUE=DATE:20260328
DTEND;VALUE=DATE:20260329
SUMMARY:Retro dance párty
DESCRIPTION:V rámci našeho největšího turné\, které bude zakončeno 20. 11. 2026 v O2 universum v Praze\, jsme samozřejmě na jaře zase v Čelákovicích!&nbsp\;RETRO DANCE PÁRTY&nbsp\;je disco ples těch největších hitů od sedmdesátých let až po milénium. Zkrátka od Abby přes Modern Talking až po Rihannu.Přijďte klidně v džínech\, ale nejlépe retro! Nejlepší dobové kostýmy budou odměněny v naší velké soutěži.&nbsp\;Hlavní cenou jsou vstupenky na naši mega show do O2 universa v Praze!&nbsp\;Těšit se můžete na opět rozsáhlejší světelný park a hity našeho mládí v originálních verzích.&nbsp\;Doba je zlá\, tak tancujme\, dokud můžeme!Vstup od 19:30\, konec 02:00 hod.Vstupné v předprodeji 350 Kč\, na místě 390 Kč.&nbsp\;
LOCATION:Čelákovice
END:VEVENT
END:VCALENDAR