BEGIN:VCALENDAR
VERSION:2.0
CALSCALE:GREGORIAN
PRODID:-//MyApp//Calendar 1.0//EN
BEGIN:VEVENT
METHOD:PUBLISH
UID:61852@regionalniportaly.cz
DTSTAMP:20260422T020506Z
DTSTART;VALUE=DATE:20260203
DTEND;VALUE=DATE:20260204
SUMMARY:Pamír Highway
DESCRIPTION:Pamír Highway - vyprávění o cestě 4 dobrodruhů\, dvou motorek a jednoho auta z Kyrgystánu přes Tádžikistán až do Uzbekistánu.&nbsp\;
LOCATION:Velvary
END:VEVENT
END:VCALENDAR