BEGIN:VCALENDAR
VERSION:2.0
CALSCALE:GREGORIAN
PRODID:-//MyApp//Calendar 1.0//EN
BEGIN:VEVENT
METHOD:PUBLISH
UID:61602@regionalniportaly.cz
DTSTAMP:20260421T224024Z
DTSTART;VALUE=DATE:20260313
DTEND;VALUE=DATE:20260314
SUMMARY:Divadelní představení Changewyx
DESCRIPTION:Divadelní představení Changewyx popisuje silný příběh\, kde diváci 3x hlasují o dalším ději.&nbsp\;Představení je vhodné jak pro děti \, studenty tak i dospělé.&nbsp\;
LOCATION:Čelákovice
END:VEVENT
END:VCALENDAR