BEGIN:VCALENDAR
VERSION:2.0
CALSCALE:GREGORIAN
PRODID:-//MyApp//Calendar 1.0//EN
BEGIN:VEVENT
METHOD:PUBLISH
UID:60918@regionalniportaly.cz
DTSTAMP:20260422T084220Z
DTSTART;VALUE=DATE:20260109
DTEND;VALUE=DATE:20260110
SUMMARY:Ty syčáci + Ještě jsme se nedohodli
DESCRIPTION:https://www.facebook.com/JesteJsmeSeNedohodlihttps://www.facebook.com/TySycaciHospoda U letního kina
LOCATION:Litoměřice
END:VEVENT
END:VCALENDAR