BEGIN:VCALENDAR
VERSION:2.0
CALSCALE:GREGORIAN
PRODID:-//MyApp//Calendar 1.0//EN
BEGIN:VEVENT
METHOD:PUBLISH
UID:60909@regionalniportaly.cz
DTSTAMP:20260422T020802Z
DTSTART;VALUE=DATE:20251211
DTEND;VALUE=DATE:20251212
SUMMARY:Co s Péťou?
DESCRIPTION:Projekce za účasti protagonistky&nbsp\;filmu a jedné&nbsp\;z&nbsp\;Péťových pečovatelek Barbory&nbsp\;Salačové.Po náhlé smrti své ženy musí hlavní protagonista filmu&nbsp\;Petr Jochec&nbsp\;převzít péči o dvě dospívající děti\, dceru&nbsp\;Vanessu&nbsp\;a syna&nbsp\;Petra\, který trpí vážnou poruchou autistického spektra. Ovdovělý táta\, který dříve často pracoval mimo domov\, se nyní musí sám postarat o rodinu a udržet ji pohromadě. I když mnozí otcové v takové situaci od rodiny odchází\, pan Jochec se rozhodne této výzvě postavit čelem a podstupuje každodenní zápas – od obětavé péče o obě děti\, přes finanční zajištění rodiny\, až po každodenní péči o domácnost. Snímek zachycuje snahu Jochecových o normální život\, dotýká se otázky\, kde jsou hranice lásky a rodičovství\, a ukazuje\, jak se jednotliví členové rodiny vyrovnávají s novou a nesnadnou životní situací. Dokument se věnuje také opomíjeným tématům\, jako je systém sociální podpory a život pečujících\, především ale zdůrazňuje sílu mezilidských vazeb v těžkých životních okamžicích. Druhý celovečerní film režiséra&nbsp\;Martina Trabalíka\, který sám několik let působil i na pozici osobního asistenta\, je realistickou sondou do života na hranici společenských\, fyzických i emocionálních možností.&nbsp\;Vstupné: 100 KčKapacita sálu&nbsp\;je 40 osob. Doporučujeme si koupit vstupenku v předprodeji.&nbsp\;
LOCATION:Litoměřice
END:VEVENT
END:VCALENDAR