BEGIN:VCALENDAR
VERSION:2.0
CALSCALE:GREGORIAN
PRODID:-//MyApp//Calendar 1.0//EN
BEGIN:VEVENT
METHOD:PUBLISH
UID:59641@regionalniportaly.cz
DTSTAMP:20260421T205740Z
DTSTART;VALUE=DATE:20251225
DTEND;VALUE=DATE:20251226
SUMMARY:Vánoční retro videodiskotéka\, aneb tancování pod stromečkem
DESCRIPTION:Hraje DJ Jiří Štěpo Štěpánek
LOCATION:Čelákovice
END:VEVENT
END:VCALENDAR