BEGIN:VCALENDAR
VERSION:2.0
CALSCALE:GREGORIAN
PRODID:-//MyApp//Calendar 1.0//EN
BEGIN:VEVENT
METHOD:PUBLISH
UID:59617@regionalniportaly.cz
DTSTAMP:20260422T020811Z
DTSTART;VALUE=DATE:20251127
DTEND;VALUE=DATE:20251128
SUMMARY:Jejím pohledem
DESCRIPTION:&nbsp\;2025\, 73 min.&nbsp\;Druhá kolekce filmů natočených režisérkami ze střední a východní Evropy opět čerpá z programu festivalů\, které tvoří Animation Festival Network (Anifilm\, Animafest\, Fest Anča\, Animest a Animateka). Letošní výběr je dílem programových ředitelů těchto filmových přehlídek a poprvé byl uveden v únoru 2025 na festivalu krátkých filmů v Clérmont-Ferrand. Pásmo nabízí různorodé filmy a rozličné pohledy autorek nejen na svět\, ale i na animaci. Zahrnuje například oceňovaný snímek I Died in Irpin\, v němž režisérka zobrazuje svou osobní zkušenost z bombardované Ukrajiny\, nebo rovněž oceňovaný\, výrazně stylizovaný a znepokojivý polský loutkový film Takové zázraky se dějí.Pásmo uvede Malvína Balvínová\, dramaturgyně Anifilmu.&nbsp\;
LOCATION:Litoměřice
END:VEVENT
END:VCALENDAR