BEGIN:VCALENDAR
VERSION:2.0
CALSCALE:GREGORIAN
PRODID:-//MyApp//Calendar 1.0//EN
BEGIN:VEVENT
METHOD:PUBLISH
UID:59616@regionalniportaly.cz
DTSTAMP:20260422T021947Z
DTSTART;VALUE=DATE:20251120
DTEND;VALUE=DATE:20251121
SUMMARY:Pan Nikdo proti Putinovi + hosté
DESCRIPTION:Projekce s hosty.Dánsko / Česko\, 2025\, 90 minRežie: David Borenstein\, Pavel Talankin&nbsp\;Pasha žije v malém ruském městě a je oblíbeným učitelem na místní základní škole. Se začátkem invaze na Ukrajinu se náplň jeho práce zcela promění. Je nucen organizovat aktivity v souladu s novými válečnými osnovami a dokumentovat je na kameru. Požadavky na vyučující se stupňují\, Pashovi bývalí žáci odjíždějí na frontu a atmosféra ve městě houstne. Frustrovaný Pasha se rozhodne bojovat tak\, jak nejlépe umí. Začne natáčet nejen státem nařízené aktivity\, ale i každodenní život ve škole a mimo ní\, s cílem ukázat světu dopad války a autoritářského režimu na místní komunitu. Film&nbsp\;Pan Nikdo proti Putinovi&nbsp\;přináší unikátní pohled na fungování ruské propagandy a vypráví napínavý příběh o člověku\, který se rozhodne riskovat vše\, aby nezradil své hodnoty.Vstupné: 100 KčKapacita sála je 40 osob. Doporučujeme si koupit vstupenku v předprodeji.&nbsp\;
LOCATION:Litoměřice
END:VEVENT
END:VCALENDAR