BEGIN:VCALENDAR
VERSION:2.0
CALSCALE:GREGORIAN
PRODID:-//MyApp//Calendar 1.0//EN
BEGIN:VEVENT
METHOD:PUBLISH
UID:59613@regionalniportaly.cz
DTSTAMP:20260422T033623Z
DTSTART;VALUE=DATE:20251113
DTEND;VALUE=DATE:20251114
SUMMARY:Ta druhá
DESCRIPTION:Projekce za účasti režisérky&nbsp\;Marie-Magdaleny&nbsp\;Kochové.Jaké to je vyrůstat ve stínu sourozence\, který potřebuje nepřetržitou péči?Osmnáctiletá Johana chce pryč z rodného maloměsta. Touží složit maturitu a odejít studovat na vysokou. Poslední rok střední školy pro ni ale představuje náročnější období než pro její spolužáky. Ve své rodině má totiž nezastupitelnou roli – denně pomáhá s péčí o mladší sestru s postižením. Přes veškerou lásku se musí vymanit z očekávání všech\, najít vlastní prostor a opustit stín své sestry. Johana je tzv. skleněné dítě\, nezáměrně přehlížená přetíženými rodiči i světem. Zvládne překonat pochybnosti i pocit viny a dovolí si\, jako ta druhá\, dát sebe na první místo? Observační dokumentární film přibližuje dlouhodobě opomíjené téma zdravých sourozenců v rodinách pečujících o děti se speciálními potřebami. Tento intimní snímek tak dává hlas všem\, kteří se někdy cítili jako ti druzí.&nbsp\;Vstupné: 100 KčKapacita sála je 40 osob. Doporučujeme si koupit vstupenku v předprodeji.&nbsp\;
LOCATION:Litoměřice
END:VEVENT
END:VCALENDAR