BEGIN:VCALENDAR
VERSION:2.0
CALSCALE:GREGORIAN
PRODID:-//MyApp//Calendar 1.0//EN
BEGIN:VEVENT
METHOD:PUBLISH
UID:59502@regionalniportaly.cz
DTSTAMP:20260422T001651Z
DTSTART;VALUE=DATE:20251123
DTEND;VALUE=DATE:20251124
SUMMARY:V.A.D. Kladno - Vadí nevadí
DESCRIPTION:Divadelní hořká komedie.&nbsp\;Hra má podtitul Studie o upřímnosti a snažíme se v ní divákovi (i sobě) odpovědět na otázku\, jestli by nebylo jednodušší mluvit o věcech přímo\, bez omáčky. Ze studie jasný výsledek nemáme\, respektive je spíš na každém\, co z toho vyvodí pro svůj život. Hra zkoumá upřímnost ze různých úhlů pohledu.&nbsp\;Kladenské amatérské divadlo V.A.D. vzniklo v&nbsp\;roce 1998 a od začátku je divadlem autorským. V&nbsp\;duchu vlastní poetiky se zaměřuje zejména na tvorbu komediální. Některé původní texty divadla V.A.D. převzaly do svého repertoáru i další divadla. Vedle hlavní autorské linie vznikají i vedlejší poetičtější projekty\, z&nbsp\;nichž některé jsou autorskými dramatizacemi známých literárních děl.Anotace
LOCATION:Velvary
END:VEVENT
END:VCALENDAR