BEGIN:VCALENDAR
VERSION:2.0
CALSCALE:GREGORIAN
PRODID:-//MyApp//Calendar 1.0//EN
BEGIN:VEVENT
METHOD:PUBLISH
UID:59501@regionalniportaly.cz
DTSTAMP:20260421T230128Z
DTSTART;VALUE=DATE:20251209
DTEND;VALUE=DATE:20251210
SUMMARY:Boni Pueri - vánoční koncert ve Velvarské Záložně
DESCRIPTION:
LOCATION:Velvary
END:VEVENT
END:VCALENDAR