BEGIN:VCALENDAR
VERSION:2.0
CALSCALE:GREGORIAN
PRODID:-//MyApp//Calendar 1.0//EN
BEGIN:VEVENT
METHOD:PUBLISH
UID:59273@regionalniportaly.cz
DTSTAMP:20260421T205730Z
DTSTART;VALUE=DATE:20251213
DTEND;VALUE=DATE:20251214
SUMMARY:Tereza Mašková
DESCRIPTION:Vánoční koncert Terezy Maškové\n \nTereza Mašková se na zámek Mělník vrací po úspěšném vystoupení na mělnickém vinobraní. Tentokrát Vám vítězka soutěže Česko Slovenská Superstar a hvězda pěvecké show „Tvoje tvář má známý hlas“ navodí svým koncertem tu pravou vánoční atmosféru. \nPřijďte si užít atmosféru svátků\, krásnou hudbu a jedinečné prostředí zámku Mělník.\n \nVstupenky zakoupíte v zámeckém boutique nebo v předprodeji na ColosseumTicket.
LOCATION:Mělník
END:VEVENT
END:VCALENDAR