BEGIN:VCALENDAR
VERSION:2.0
CALSCALE:GREGORIAN
PRODID:-//MyApp//Calendar 1.0//EN
BEGIN:VEVENT
METHOD:PUBLISH
UID:59272@regionalniportaly.cz
DTSTAMP:20260422T051829Z
DTSTART;VALUE=DATE:20251206
DTEND;VALUE=DATE:20251207
SUMMARY:Bára Basiková
DESCRIPTION:Vánoční koncert Báry Basikové\n \nZavítejte na kouzelný vánoční koncert na zámku Mělník. Slavnostní večer ozdobí výjimečná zpěvačka Bára Basiková\, známá svým všestranným a bohatým repertoárem. \nDoprovázet ji bude kapela Basic Band. V jejich repertoáru najdete Bářiny největší hity\, ale i ty muzikálové\, filmové a převzaté. \nPřijďte si užít atmosféru svátků\, krásnou hudbu a jedinečné prostředí zámku Mělník.\n \nVstupenky zakoupíte v zámeckém boutique nebo v předprodeji v síti ColosseumTicket.
LOCATION:Mělník
END:VEVENT
END:VCALENDAR