BEGIN:VCALENDAR
VERSION:2.0
CALSCALE:GREGORIAN
PRODID:-//MyApp//Calendar 1.0//EN
BEGIN:VEVENT
METHOD:PUBLISH
UID:59271@regionalniportaly.cz
DTSTAMP:20260422T072114Z
DTSTART;VALUE=DATE:20251129
DTEND;VALUE=DATE:20251130
SUMMARY:Vánoce vánoce přicházejí
DESCRIPTION:Kouzelnou vánoční atmosféru na zámku Mělník Vám přinese rozmanité složení hudebníků. Zpívat Vám budou Dagmar Barbora Grafnetrová\, Dita Hořínková\, Martin Pošta a Jakub Machulda. Doprovázet je budou Jaroslav Svěcený\, Radim Linhart\, Vladimír Boryš Secký\, Ruda Musil a Jan Greifoner. Přijďte si užít atmosféru svátků\, krásnou hudbu a jedinečné prostředí zámku Mělník.\n \nVstupenky zakoupíte v zámeckém boutique nebo v předprodeji na ColosseumTicket.
LOCATION:Mělník
END:VEVENT
END:VCALENDAR