BEGIN:VCALENDAR
VERSION:2.0
CALSCALE:GREGORIAN
PRODID:-//MyApp//Calendar 1.0//EN
BEGIN:VEVENT
METHOD:PUBLISH
UID:59258@regionalniportaly.cz
DTSTAMP:20260422T052848Z
DTSTART;VALUE=DATE:20251129
DTEND;VALUE=DATE:20251130
SUMMARY:Marie Tilšarová & Kdo Jsme My v Litoměřicích
DESCRIPTION:Srdečně vás zveme na náš tradiční koncert v oblíbeného retro hudebním Vinyl clubu v Litoměřicích!&nbsp\;Tentokrát se poprvé sejdeme v předvánočním čase a atmosféra bude jako vždy neopakovatelná.Těšit se můžete jak na nejnovější písně\, tak na průřez největšími hity a hlavně na spoustu radosti a úsměvů. To je víc než dárky.Tak si zapište datum a přijďte se před svátky naladit na krásnou vlnu pohody:)Marie je autentická písničkářka s mottem „Co žiju\, zpívám\, co zpívám\, žiju“.Skládá a hraje písně s jednoduchými a chytlavými melodiemi\, které oslovují srdce a vyprávějí příběhy\, jež zná každý z nás. S kapelou tvoří super energickou partu\, která vás pobaví\, roztančí\, nadchne i dojme.
LOCATION:Litoměřice
END:VEVENT
END:VCALENDAR