BEGIN:VCALENDAR
VERSION:2.0
CALSCALE:GREGORIAN
PRODID:-//MyApp//Calendar 1.0//EN
BEGIN:VEVENT
METHOD:PUBLISH
UID:59186@regionalniportaly.cz
DTSTAMP:20260422T021751Z
DTSTART;VALUE=DATE:20251127
DTEND;VALUE=DATE:20251128
SUMMARY:Tóny doby adventní v eurytmii a hudbě
DESCRIPTION:Slavnostní eurytmické vystoupení u příležitosti 10. výročí založení Waldorfské základní školy VÁŽKA.V programu zazní díla Beethovena\, Chopina\, Bacha a Rudolfa Steinera v podání školního orchestru\, žáků 1. stupně\, studijní skupiny Závojnatky a profesionálních eurytmistek Hany Adamcové\, Jitky Čápové a Pavlíny Bauer.Hudební doprovod\, světlo\, pohyb a slovo propojí večer věnovaný kráse\, rytmu a oslavě života.
LOCATION:Litoměřice
END:VEVENT
END:VCALENDAR