BEGIN:VCALENDAR
VERSION:2.0
CALSCALE:GREGORIAN
PRODID:-//MyApp//Calendar 1.0//EN
BEGIN:VEVENT
METHOD:PUBLISH
UID:59112@regionalniportaly.cz
DTSTAMP:20260421T184247Z
DTSTART;VALUE=DATE:20260423
DTEND;VALUE=DATE:20260424
SUMMARY:Normální debil
DESCRIPTION:NORMÁLNÍ DEBILDeník puberťáka aneb Mé dětství v socialismu. Originální retro komedie dob dávno minulých.&nbsp\;Divadelní hra&nbsp\;Normální debil&nbsp\;vznikla na motivy stejnojmenné knihy Roberta Bellana. Jedná se o retro komedii\, kdy základem vyprávění jsou příhody z autorova dětství prožitého v&nbsp\;socialistickém Československu.Během večera plného humoru\, nadsázky i nostalgie se ocitneme spolu s&nbsp\;hlavním hrdinou – známým průšvihářem Norbertem Intribusem – například v&nbsp\;socialistické domácnosti\, ve škole\, na fotbalovém hřišti\, u splavu\, v&nbsp\;nemocnici\, nebo třeba i překvapivě na hřbitovním sexuálním večírku.Nedílnou součástí inscenace je dobová „pop music“\, vysílání Československé televize a odborný pohled na psychický vulkanismus.Hrají: Zbigniew Kalina\, David Suchařípa\, Lenka Zbranková\, Veronika Čermák Macková / Jana OndruškováVíce informací:&nbsp\;http://www.normalnidebil.cz/Délka: 110 min. (včetně 20 min. přestávky).&nbsp\;&nbsp\;
LOCATION:Čelákovice
END:VEVENT
END:VCALENDAR