BEGIN:VCALENDAR
VERSION:2.0
CALSCALE:GREGORIAN
PRODID:-//MyApp//Calendar 1.0//EN
BEGIN:VEVENT
METHOD:PUBLISH
UID:59073@regionalniportaly.cz
DTSTAMP:20260422T084903Z
DTSTART;VALUE=DATE:20251206
DTEND;VALUE=DATE:20251207
SUMMARY:Z pekla do Nebe II.
DESCRIPTION:&nbsp\;Z PEKLA DO NEBE II. – vánoční vizuální stezka pro celou rodinu&nbsp\;Připravte se na návrat! Po loňském prvním ročníku si Vox Luminas ve spolupráci s městem Litoměřice opět připravili netradiční pojetí tradice příchodu Čerta a Mikuláše\, zavedou vás do ohnivého pekla a zářivého nebe. Dbáme na to\, aby naši čerti byli z české pohádky s lidským obličejem a nevzbuzovali v dětech strach.&nbsp\;𝐂𝐨 𝐯𝐚́𝐬 𝐜̌𝐞𝐤𝐚́?𝑻𝒆𝒎𝒂𝒕𝒊𝒄𝒌𝒆́ 𝒗𝒚𝒔𝒕𝒐𝒖𝒑𝒆𝒏𝒊́ – světelné a ohnivé choreografie ve stylu „Z pekla do nebe“\, mažoretky Vox Luminas v doprovodu moderátora Zdeňka Lukesleho a jeho animační show.𝑺𝒑𝒆𝒄𝒊𝒂́𝒍𝒏𝒊́ 𝒔𝒄𝒆́𝒏𝒐𝒈𝒓𝒂𝒇𝒊𝒆 tržnice proměněná na peklo a nebe𝑫𝒐𝒌𝒐𝒏𝒂𝒍𝒆́ 𝒗𝒂́𝒏𝒐𝒄̌𝒏𝒊́ 𝒏𝒂𝒍𝒂𝒅𝒆̌𝒏𝒊́ – ideální pro všechny generace\, děti i dospělé.&nbsp\;Přidejte se k události\, sdílejte pozvání a sledujte náš facebook – další informace už brzy přineseme. Společně rozehřejeme srdce i mráz svátečního večera!„Z pekla do nebe II.“ má podporu v rámci programu dotací Města Litoměřice a fondu Kalich.KRAMPUSÁKŮM vstup ZAKÁZÁN!!!!!&nbsp\;Vstupem na akci souhlasíte s GDPR více informací na FB události v pravidlech akce:&nbsp\;https://fb.me/e/5T29VUE4i&nbsp\;
LOCATION:Litoměřice
END:VEVENT
END:VCALENDAR