BEGIN:VCALENDAR
VERSION:2.0
CALSCALE:GREGORIAN
PRODID:-//MyApp//Calendar 1.0//EN
BEGIN:VEVENT
METHOD:PUBLISH
UID:58719@regionalniportaly.cz
DTSTAMP:20260422T052838Z
DTSTART;VALUE=DATE:20251021
DTEND;VALUE=DATE:20251022
SUMMARY:Duncan tančí
DESCRIPTION:Studenti a studentky pražské Konzervatoře Duncan centre&nbsp\;a komponované představení jejich tvorby&nbsp\;již po osmé v Litoměřicích.Autorské choreografie\,&nbsp\;výjimečné a různorodé tvůrčí přístupy a choreografické počiny mladé nastupující generace.Konzervatoř Duncan centre\, jediná státní škola pro současný tanec a tvorbu v Čechách.&nbsp\;Pořádá&nbsp\;Kinoklub Ostrov&nbsp\;s podporou&nbsp\;města Litoměřice.Místo konání:&nbsp\;Divadlo K. H. Máchy\, Máchovy schody 3\, Litoměřice.&nbsp\;Vstupné:Dospělý:&nbsp\;130 Kč / 150 Kč (předprodej / na místě)Dítě do 15 let:&nbsp\;60 Kč / 80 Kč (předprodej / na místě)Vstupenky na místa nejsou číslovány\, přijďte prosím s předstihem a zvolte si vhodné místo.&nbsp\;Vhodné pro děti od 5 let!Foto: Vojtěch Brtnický
LOCATION:Litoměřice
END:VEVENT
END:VCALENDAR