BEGIN:VCALENDAR
VERSION:2.0
CALSCALE:GREGORIAN
PRODID:-//MyApp//Calendar 1.0//EN
BEGIN:VEVENT
METHOD:PUBLISH
UID:58456@regionalniportaly.cz
DTSTAMP:20260422T001642Z
DTSTART;VALUE=DATE:20251209
DTEND;VALUE=DATE:20251210
SUMMARY:Vánoční koncert města Čelákovic
DESCRIPTION:Účinkuje Orchestr Bohumíra Hanžlíka.
LOCATION:Čelákovice
END:VEVENT
END:VCALENDAR