BEGIN:VCALENDAR
VERSION:2.0
CALSCALE:GREGORIAN
PRODID:-//MyApp//Calendar 1.0//EN
BEGIN:VEVENT
METHOD:PUBLISH
UID:58454@regionalniportaly.cz
DTSTAMP:20260422T052122Z
DTSTART;VALUE=DATE:20251022
DTEND;VALUE=DATE:20251023
SUMMARY:2 tváře amerického západu - Oregon Coast & BigFoot Trail
DESCRIPTION:Půlroční putování pěšky napříč americkým západem měřilo přes 3500 km – od vyprahlých pouští Arizony a magických kaňonů Utahu až k zasněženým horám a divokému pobřeží Pacifiku. Přednáška se zaměří na nejpůsobivější úseky dálkových tras Oregon Coast Trail a Bigfoot Trail – směs náročného terénu\, půvabných městeček\, lesů i oceánu. Jeden je vhodný pro začátečníky\, druhý jen pro zkušené hikery. Čeká vás vyprávění o kráse přírody i o chvílích\, kdy se člověk ocitne tváří v tvář medvědovi.
LOCATION:Velvary
END:VEVENT
END:VCALENDAR