BEGIN:VCALENDAR
VERSION:2.0
CALSCALE:GREGORIAN
PRODID:-//MyApp//Calendar 1.0//EN
BEGIN:VEVENT
METHOD:PUBLISH
UID:58183@regionalniportaly.cz
DTSTAMP:20260422T033551Z
DTSTART;VALUE=DATE:20251031
DTEND;VALUE=DATE:20251101
SUMMARY:Bloody Temptation | Halloween v Luně
DESCRIPTION:🎃 BLOODY TEMPTATION | HALLOWEEN v Luně 🩸📅 Pátek 31. 10. 2025 | Luna\, LitoměřiceAHOJ LUŇÁCI 🤙Halloween je zpátky a letos to bude MASAKR! 🔥 Temná noc\, svůdná atmosféra a krev na parketu… to je Bloody Temptation! Čeká tě nejděsivější a nejvíc nabitá party roku – dekorace\, ze kterých ti přeběhne mráz po zádech\, DJs co tě nenechají stát a show\, na kterou jen tak nezapomeneš.🎧 Vystupující – info brzy!✨ Na co se těš:👑 Největší Halloween na severu Čech👻 Klub proměněný v halloweenskou temnotu🎶 DJs\, co rozjedou stage až do rána🩸 Spooky &amp\; bloody drinky\, které musíš ochutnat🎭 Soutěž o nejlepší kostým – ukaž skill a vyhraj ceny📸 Insta-friendly fotokoutek pro tvoje nejvíc creepy vzpomínky👉 Nech se pohltit nocí plnou pokušení a zažij Halloween\, o kterým se bude mluvit!🔞 Vstup 15+ | ⏰ Start 21:00📍 Luna Disco | Stránského 1909\, LitoměřiceTěšíme se na vás feláci 🙌🎃
LOCATION:Litoměřice
END:VEVENT
END:VCALENDAR