BEGIN:VCALENDAR
VERSION:2.0
CALSCALE:GREGORIAN
PRODID:-//MyApp//Calendar 1.0//EN
BEGIN:VEVENT
METHOD:PUBLISH
UID:58131@regionalniportaly.cz
DTSTAMP:20260422T033745Z
DTSTART;VALUE=DATE:20251107
DTEND;VALUE=DATE:20251108
SUMMARY:Zimní Útulek Fest 2025
DESCRIPTION:Letní ÚTULEK FEST&nbsp\;(ÚF) zve podruhý na svoji ZIMNÍ verzi (zÚF) !Roku 2024 jsme zahráli v Ústí &amp\; v Děčíně\, v PÁTEK 7. LISTŮPÁDU si poprvý zaštěkáme v litoměřický BARONCE\, kde se těšte na...&nbsp\;DIE UKRAINIENS – z Drážďan do Liťáku dorazí po cca 10 letech – míchají tradiční (nejen) ukrajinskou i balkánskou muziku do stylu\, jemuž říkaj "speed-folk-polka" (nechybí harmonika\, ságo &amp\; trumpeta!)VIBES – premiéra v Baronce! – 7členná děčínská reggae/rock/funky úderka (s trumpetou i ságem!)FREAKY SUICIDE (ex OMĚJ) – mladá ústecká banda hraje (zatim:) covery &amp\; svojí premiéru sfoukla v červnu 2025 na 24. ročníku ÚFASO - NAGA – hardcore-punková úderka z Krupky / Teplic s ReBarborou u mikrofonu už v Baronce párkrát hrála &amp\; na kontě má i splitko s argentinskou kapelou!&nbsp\;Mezi kapelama hrajou &amp\; o after párty se postaraj&nbsp\;dvě sehraný děčínský elektro-party (reggae\, ska\, dub\, drumNbass):YOUNG SELEKTAZZ &amp\; PHOBIACS&nbsp\;JÍZDNÍ ŘÁD / fahrplan ZDE / hier&nbsp\;A\, stejně jako v případě "klasickýho ÚF"\, i tentokrát spojíme příjemný s užitečným\, bychom výtěžkem podpořili ČTYŘNOHÝ – a\, stejně jako loni\, i letos VÝTĚŽEK AKCE proměníme na granule: pražský spolek PSÍ ŽIVOT je opět odveze do UKRAJINSKÝCH ÚTULKŮ (viz&nbsp\;www.darujme.cz/ukrajina).VSTUPNÝ (*):V předprodeji (do 6.11.25 v BARONCE + SMSticket)&nbsp\;– 200 KčNa místě (v den koncertu) – 300 Kč(*) DĚTI do 15 let = vstupný dobrovolnýZa podporu děkuje &amp\; těší se na vás: pořádající spolek Útulek fest\,&nbsp\;&nbsp\;Provinova Baronka i všichni muzikanti ...PS: Zimní ÚF den potom\, v sobotu 8.11.25\, zaštěká v děčínským Biograffs clubu&nbsp\;
LOCATION:Litoměřice
END:VEVENT
END:VCALENDAR