BEGIN:VCALENDAR
VERSION:2.0
CALSCALE:GREGORIAN
PRODID:-//MyApp//Calendar 1.0//EN
BEGIN:VEVENT
METHOD:PUBLISH
UID:58098@regionalniportaly.cz
DTSTAMP:20260422T052947Z
DTSTART;VALUE=DATE:20251101
DTEND;VALUE=DATE:20251102
SUMMARY:Festival maják
DESCRIPTION:Festival Maják&nbsp\;je akce\, za níž už několik let stojí jako hlavní donátor Nadační fond Škoda Auto. Po předchozích ročnících\, kdy se dvakrát konal v Kosmonosech\, a po loňském\, mimořádně úspěšném vydání v Mnichově Hradišti\, přichází letos hra světel\, stínů a hudby do Bělé pod Bezdězem.Festival je rozdělen do dvou částí. Volně přístupná zóna začíná u České brány a pokračuje přes Masarykovo náměstí\, kde návštěvníci mohou obdivovat světelné instalace\, hudební vystoupení a interaktivní programy. Placená část probíhá v prostorách Bělského zámku. Zde si mohou zájemci po oba dny — v pátek 31. října a v sobotu 1. listopadu — vybrat ze čtrnácti hodinových prohlídek\, které nabídnou originální světelné show\, setkání s Valdštejny nebo rukodělné dílny pro dospělé i děti\, ze které si odnesete světlušku\, vzpomínku na tuto mimořádnou akci.Na své pouti za světlem můžete využít řady zajímavých možností k občestvení.Podrobnosti o světelných instalacích a další nezbytné inforamce&nbsp\;se dozvíte na stránkách FESTIVALU MAJÁK&nbsp\;nebo na webu pořadatele KULTURA BĚLÁ.&nbsp\;
LOCATION:Bělá pod Bezdězem
END:VEVENT
END:VCALENDAR