BEGIN:VCALENDAR
VERSION:2.0
CALSCALE:GREGORIAN
PRODID:-//MyApp//Calendar 1.0//EN
BEGIN:VEVENT
METHOD:PUBLISH
UID:58077@regionalniportaly.cz
DTSTAMP:20260422T052826Z
DTSTART;VALUE=DATE:20251129
DTEND;VALUE=DATE:20251130
SUMMARY:Dospělé dítě
DESCRIPTION:Příběh o dívce\, kterou již od dětství doprovází imaginární kamarádka\, příběh o dospívání s duševní poruchou. V jednom těle spolu musí vycházet dvě odlišně osobnosti. Imaginární kamarádka umí být nevinná a chápající\, ale také cholerická a manipulativní. Kam až může dívku zavést chybějící láska v dětství\, nepřející okolí\, ale také strach ze sebe samé? Dvě herečky\, dvě duše\, jedna osoba\, jedno tělo. Monodrama ve dvou.
LOCATION:Bělá pod Bezdězem
END:VEVENT
END:VCALENDAR